BEGIN:VCALENDAR
VERSION:2.0
PRODID:-//My Choice 2 Change - ECPv6.15.20//NONSGML v1.0//EN
CALSCALE:GREGORIAN
METHOD:PUBLISH
X-ORIGINAL-URL:https://www.mychoice2change.org
X-WR-CALDESC:Events for My Choice 2 Change
REFRESH-INTERVAL;VALUE=DURATION:PT1H
X-Robots-Tag:noindex
X-PUBLISHED-TTL:PT1H
BEGIN:VTIMEZONE
TZID:America/New_York
BEGIN:DAYLIGHT
TZOFFSETFROM:-0500
TZOFFSETTO:-0400
TZNAME:EDT
DTSTART:20230312T070000
END:DAYLIGHT
BEGIN:STANDARD
TZOFFSETFROM:-0400
TZOFFSETTO:-0500
TZNAME:EST
DTSTART:20231105T060000
END:STANDARD
BEGIN:DAYLIGHT
TZOFFSETFROM:-0500
TZOFFSETTO:-0400
TZNAME:EDT
DTSTART:20240310T070000
END:DAYLIGHT
BEGIN:STANDARD
TZOFFSETFROM:-0400
TZOFFSETTO:-0500
TZNAME:EST
DTSTART:20241103T060000
END:STANDARD
BEGIN:DAYLIGHT
TZOFFSETFROM:-0500
TZOFFSETTO:-0400
TZNAME:EDT
DTSTART:20250309T070000
END:DAYLIGHT
BEGIN:STANDARD
TZOFFSETFROM:-0400
TZOFFSETTO:-0500
TZNAME:EST
DTSTART:20251102T060000
END:STANDARD
END:VTIMEZONE
BEGIN:VEVENT
DTSTART;TZID=America/New_York:20240908T130000
DTEND;TZID=America/New_York:20240908T170000
DTSTAMP:20260423T092740
CREATED:20241224T033341Z
LAST-MODIFIED:20241224T033341Z
UID:1085-1725800400-1725814800@www.mychoice2change.org
SUMMARY:York Recovery Day 2024
DESCRIPTION:
URL:https://www.mychoice2change.org/event/york-recovery-day-2024/
ATTACH;FMTTYPE=image/jpeg:https://www.mychoice2change.org/wp-content/uploads/2024/08/Recovery-Day-Ticket-Flyer-2024-FINAL52048-scaled.jpg
END:VEVENT
BEGIN:VEVENT
DTSTART;TZID=America/New_York:20240906T180000
DTEND;TZID=America/New_York:20240906T200000
DTSTAMP:20260423T092740
CREATED:20241224T033238Z
LAST-MODIFIED:20241224T033238Z
UID:1082-1725645600-1725652800@www.mychoice2change.org
SUMMARY:2024 York Recovery Month Kickoff
DESCRIPTION:
URL:https://www.mychoice2change.org/event/2024-york-recovery-month-kickoff/
LOCATION:Cherry Lane\, Downtown York\, PA\, United States
ATTACH;FMTTYPE=image/jpeg:https://www.mychoice2change.org/wp-content/uploads/2024/08/Recovery-Month-Kickoff-Flyer51140.jpg
END:VEVENT
BEGIN:VEVENT
DTSTART;TZID=America/New_York:20240824T080000
DTEND;TZID=America/New_York:20240824T170000
DTSTAMP:20260423T092740
CREATED:20241224T033059Z
LAST-MODIFIED:20241224T033059Z
UID:1079-1724486400-1724518800@www.mychoice2change.org
SUMMARY:Recovery Volleyball Tournament
DESCRIPTION:The tournament is an event to showcase the power of community and resiliency\, to celebrate the lives transformed by recovery\, and to connect our neighbors\, partners\, allies\, and friends with life-saving prevention\, treatment\, and recovery resources available throughout South Central Pennsylvania. \nThe Recovery Opportunity and Community Foundation presents this year’s event\, a registered 501(c)(3) public charity that manages a fund directly benefiting children who have lost their parents to overdose. Teams consist of five players and registration is $50. The tournament is a double elimination with prizes for the winning teams. \nCome show your support\, learn about the services and resources available to individuals and families throughout the region\, and have fun! \n\n\n\n\nClick to REGISTER a team or sponsor the event.
URL:https://www.mychoice2change.org/event/recovery-volleyball-tournament/
LOCATION:Fairview Park\, Columbia\, PA\, United States
ATTACH;FMTTYPE=image/png:https://www.mychoice2change.org/wp-content/uploads/2024/08/Recovery-Volleyball-Tournament.png
END:VEVENT
BEGIN:VEVENT
DTSTART;TZID=America/New_York:20240821T180000
DTEND;TZID=America/New_York:20241120T190000
DTSTAMP:20260423T092740
CREATED:20241224T032934Z
LAST-MODIFIED:20241224T032934Z
UID:1077-1724263200-1732129200@www.mychoice2change.org
SUMMARY:Wellness Group
DESCRIPTION:
URL:https://www.mychoice2change.org/event/wellness-group/
ATTACH;FMTTYPE=image/png:https://www.mychoice2change.org/wp-content/uploads/2024/08/Wellness-Group-My-Choice-2-Change53055.png
END:VEVENT
BEGIN:VEVENT
DTSTART;TZID=America/New_York:20240515T130000
DTEND;TZID=America/New_York:20240515T170000
DTSTAMP:20260423T092740
CREATED:20241224T033529Z
LAST-MODIFIED:20241224T033529Z
UID:1087-1715778000-1715792400@www.mychoice2change.org
SUMMARY:70 Years Later: Reflecting on Brown v. Board of Education and the Ongoing Struggle for Educational Equality
DESCRIPTION:Next month\, Wayfinder Foundation will examine the historic implications of “Brown v. Board”\, the current state of Black education\, as well as best practices for addressing educational inequities from a public policy perspective.
URL:https://www.mychoice2change.org/event/70-years-later-reflecting-on-brown-v-board-of-education-and-the-ongoing-struggle-for-educational-equality/
ATTACH;FMTTYPE=image/png:https://www.mychoice2change.org/wp-content/uploads/2024/05/wayfounder-virtual.png
END:VEVENT
END:VCALENDAR